BEGIN:VCALENDAR
METHOD:PUBLISH
VERSION:2.0
PRODID:-//Eventilla iCal Syndication//NONSGML Liana//EN
BEGIN:VEVENT
UID:5dJ2E@eventilla.com
DTSTAMP:20250521T110000Z
DTSTART:20250521T110000Z
DTEND:20250521T120000Z
SUMMARY:HHJ-info (MAKSUTON)
DESCRIPTION:Aika: To 21.5.2025 klo 14.00–15.00Paikka: Verkkotapahtuma (Teams)\nTervetuloa maksuttomaan valtakunnalliseen HHJ-infoon!\nTilaisuudessa keskustellaan hallitustyön kehittämisestä ja esitellään HHJ-koulutuksia. Osallistujilla on mahdollisuus esittää kysymyksiä ja kommentteja. Tapahtuma on tarkoitettu kaikille hallitustyöstä ja HHJ-koulutuksista kiinnostuneille.\nOhjelma:\n\nHJJ valtakunnallisesti\n\nKauppakamareiden HHJ-yhteyshenkilöiden lyhyet esittelyt ja katsaus tuleviin koulutuksiin\n\n\nHallituspartneritoiminta\n\nKai Virtanen\, puheenjohtaja\, Hallituspartnerit ry\n\n\nHHJ-koulutukset ja valmennukset käytännön hallitustyön kehittämiseksi\n\nSusanna Keskinen ja Minni Rimpioja\, Tampereen kauppakamari\n\n\nKeskustelua ja kysymyksiä\n\nTilaisuus järjestetään yhteistyössä kauppakamarien ja Hallituspartneriverkoston kanssa.\nIlmoittautuminen:\nIlmoittautuminen\nIlmoittautuneet saavat sähköisen osallistumislinkin tapahtumapäivän aamuna. Ilmoittaudu viimeistään 20.5.2025.\nJärjestäjä: Tampereen kauppakamari\nLisätiedot:\nSusanna Keskinensusanna.keskinen@tampereenkauppakamari.fi\, p. 050 575 7223Minni Rimpiojaminni.rimpioja@tampereenkauppakamari.fip. 044 281 8924\n 
LOCATION:TEAMS
URL:http://tapahtumat.lapland.chamber.fi/event/5dJ2E
END:VEVENT
END:VCALENDAR
