BEGIN:VCALENDAR
METHOD:PUBLISH
VERSION:2.0
PRODID:-//Eventilla iCal Syndication//NONSGML Liana//EN
BEGIN:VEVENT
UID:zAB24@eventilla.com
DTSTAMP:20230929T053000Z
DTSTART:20230929T053000Z
DTEND:20230929T090000Z
SUMMARY:Suomi 2030 -skenaariot - Lappi-edition
DESCRIPTION:\n \nLämpimästi tervetuloa Lappi-skenaarioiden julkistamistilaisuuteen!\nRadikaalin epävarmuuden olosuhteessa on luotava laatikoita - eli skenaarioita\, jotka auttavat meitä systemaattisesti ajattelemaan tulevaisuutta.\nLappi-skenaariot ovat osa Suomi-skenaario hanketta ja keskittyvät Lapin näkökulmaan. Keväällä 2023 Risto E.J. Penttilän luotsaama Nordic West Office ja EVA ovat yhdessä suomalaisten yritysten\, järjestöjen ja alueiden kanssa työstäneet mahdollisia maailmoja Suomelle vuoteen 2030 saakka.\nSuomi-skenaariot Lappi-edition -keskustelutilaisuus kokoaa Lapin maakunnan päättäjät ja elinkeinoelämän edustajat yhteen pohtimaan Lapin tulevaisuutta.\nTilaisuus on osa Nordic West Officen ja EVA:n vetämää SuomiSkenaariot -prosessia\, johon myös Lapin kauppakamari ja Lapin liitto ovat osallistuneet.\nMiten geopolitiikka\, globaali talous ja teknologian kehitys vaikuttava Suomeen ja erityisesti Lappiin? Mitä on Lapin rooli jatkossa?\nKeskusteluissa nostamme mukaan näkökulmia mm. tulevaan pohjoisen ohjelman sisältöön\, huoltovarmuuteen ja vihreän siirtymän investointien edistämiseen. \nAika ja paikka:\nPerjantaina 29.9. klo 8:30-12:00Rovaniemi\, Korundi\nOhjelma:\n8:30 Aamukahvit\nSuomi-ja Lappi skenaarioiden esittely - Ulkopolitiikan asiantuntija ja Nordic West Officen toimitusjohtaja Risto E. J. Penttilä\nElinkeinojen näkymät tulevaisuuteen - Toimitusjohtaja Lapin kauppakamari\, Liisa Ansala\, \nPohjoinen ohjelma  - pohjoinen tulevaisuus - Maakuntajohtaja Lapin liitto\, Mika Riipi\n Paneelikeskustelu - Skenaarioiden kommentointi.\n\nPetri Mure\, vastuullisuusjohtaja Outokumpu\nUlla-Kirsikka Vainio\, kaupunginjohtaja Rovaniemen kaupunki.\nSami Heikkilä\, pankinjohtaja yritysliiketoiminta Pohjolan OP\n\nKeskustelua skenaarioista \nLoppupuheenvuoro - Kansanedustaja Sara Seppänen (mahdollisesti etäpuheenvuoro - vahvistuu)\nYhteenveto\n12:00 Tilaisuus päättyy\nLisätietoa \nHanna Baas\, edunvalvontapäällikkö Lapin kauppakamarihanna.baas@chamber.fiVirpi Lilja\, vt. yhteysjohtaja Lapin liittovirpi.lilja@lapinliitto.fi\nTilaisuus on osa Vihreän siirtymän teollisen strategian toteutus ja viestintä -AKKE hanketta sekä Lounaistuuli -AKKE hanketta.
LOCATION:Rovaniemi
URL:http://tapahtumat.lapland.chamber.fi/event/zAB24
END:VEVENT
END:VCALENDAR
